Package: CARNIVAL Version: 2.21.0 Command: rm -rf CARNIVAL.buildbin-libdir && mkdir CARNIVAL.buildbin-libdir && /Users/biocbuild/BBS/utils/build-universal.sh CARNIVAL_2.21.0.tar.gz /Library/Frameworks/R.framework/Resources/bin/R CARNIVAL.buildbin-libdir StartedAt: 2025-11-22 01:25:23 -0500 (Sat, 22 Nov 2025) EndedAt: 2025-11-22 01:25:35 -0500 (Sat, 22 Nov 2025) EllapsedTime: 12.7 seconds RetCode: 0 Status: OK PackageFile: CARNIVAL_2.21.0.tgz PackageFileSize: 415.4 KiB