Package: CARNIVAL Version: 2.19.0 Command: /Library/Frameworks/R.framework/Resources/bin/R CMD INSTALL CARNIVAL StartedAt: 2025-10-24 15:07:38 -0400 (Fri, 24 Oct 2025) EndedAt: 2025-10-24 15:07:41 -0400 (Fri, 24 Oct 2025) EllapsedTime: 2.8 seconds RetCode: 0 Status: OK