Package: CARNIVAL Version: 2.19.0 Command: rm -rf CARNIVAL.buildbin-libdir && mkdir CARNIVAL.buildbin-libdir && /Users/biocbuild/BBS/utils/build-universal.sh CARNIVAL_2.19.0.tar.gz /Library/Frameworks/R.framework/Resources/bin/R CARNIVAL.buildbin-libdir StartedAt: 2025-10-24 22:56:35 -0400 (Fri, 24 Oct 2025) EndedAt: 2025-10-24 22:56:38 -0400 (Fri, 24 Oct 2025) EllapsedTime: 3.1 seconds RetCode: 0 Status: OK PackageFile: CARNIVAL_2.19.0.tgz PackageFileSize: 417.6 KiB