Package: CARDspa Version: 1.1.0 Command: /Library/Frameworks/R.framework/Resources/bin/R CMD INSTALL CARDspa StartedAt: 2025-10-09 15:30:24 -0400 (Thu, 09 Oct 2025) EndedAt: 2025-10-09 15:31:41 -0400 (Thu, 09 Oct 2025) EllapsedTime: 77.8 seconds RetCode: 0 Status: OK