Package: CARDspa Version: 1.1.0 Command: /Library/Frameworks/R.framework/Resources/bin/R CMD build --keep-empty-dirs --no-resave-data CARDspa StartedAt: 2025-10-09 16:19:14 -0400 (Thu, 09 Oct 2025) EndedAt: 2025-10-09 16:26:49 -0400 (Thu, 09 Oct 2025) EllapsedTime: 455.7 seconds RetCode: 0 Status: OK PackageFile: CARDspa_1.1.0.tar.gz PackageFileSize: 4.529 MiB