Package: CARDspa Version: 1.1.0 Command: rm -rf CARDspa.buildbin-libdir && mkdir CARDspa.buildbin-libdir && /Users/biocbuild/BBS/utils/build-universal.sh CARDspa_1.1.0.tar.gz /Library/Frameworks/R.framework/Resources/bin/R CARDspa.buildbin-libdir StartedAt: 2025-10-10 02:25:58 -0400 (Fri, 10 Oct 2025) EndedAt: 2025-10-10 02:27:22 -0400 (Fri, 10 Oct 2025) EllapsedTime: 84.5 seconds RetCode: 0 Status: OK PackageFile: CARDspa_1.1.0.tgz PackageFileSize: 4.926 MiB