Package: CAMERA Version: 1.67.0 Command: /home/biocbuild/bbs-3.23-bioc/R/bin/R CMD build --keep-empty-dirs --no-resave-data CAMERA StartedAt: 2025-11-07 16:35:19 -0500 (Fri, 07 Nov 2025) EndedAt: 2025-11-07 16:36:39 -0500 (Fri, 07 Nov 2025) EllapsedTime: 80.1 seconds RetCode: 0 Status: OK PackageFile: CAMERA_1.67.0.tar.gz PackageFileSize: 2.424 MiB