Package: CAMERA Version: 1.65.1 Command: /Library/Frameworks/R.framework/Resources/bin/R CMD INSTALL CAMERA StartedAt: 2025-10-09 15:41:20 -0400 (Thu, 09 Oct 2025) EndedAt: 2025-10-09 15:42:35 -0400 (Thu, 09 Oct 2025) EllapsedTime: 75.0 seconds RetCode: 0 Status: OK