Package: CAMERA Version: 1.65.1 Command: /Library/Frameworks/R.framework/Resources/bin/R CMD build --keep-empty-dirs --no-resave-data CAMERA StartedAt: 2025-10-10 16:23:33 -0400 (Fri, 10 Oct 2025) EndedAt: 2025-10-10 16:25:34 -0400 (Fri, 10 Oct 2025) EllapsedTime: 121.5 seconds RetCode: 0 Status: OK PackageFile: CAMERA_1.65.1.tar.gz PackageFileSize: 2.422 MiB