Package: CAMERA Version: 1.65.1 Command: rm -rf CAMERA.buildbin-libdir && mkdir CAMERA.buildbin-libdir && /Users/biocbuild/BBS/utils/build-universal.sh CAMERA_1.65.1.tar.gz /Library/Frameworks/R.framework/Resources/bin/R CAMERA.buildbin-libdir StartedAt: 2025-10-11 02:20:24 -0400 (Sat, 11 Oct 2025) EndedAt: 2025-10-11 02:21:44 -0400 (Sat, 11 Oct 2025) EllapsedTime: 80.0 seconds RetCode: 0 Status: OK PackageFile: CAMERA_1.65.1.tgz PackageFileSize: 3.092 MiB