Package: CAGEr Version: 2.17.0 Command: /home/biocbuild/bbs-3.23-bioc/R/bin/R CMD INSTALL CAGEr StartedAt: 2025-11-20 15:59:00 -0500 (Thu, 20 Nov 2025) EndedAt: 2025-11-20 16:00:03 -0500 (Thu, 20 Nov 2025) EllapsedTime: 62.8 seconds RetCode: 0 Status: OK