Package: CAGEr Version: 2.17.0 Command: /home/biocbuild/bbs-3.23-bioc/R/bin/R CMD build --keep-empty-dirs --no-resave-data CAGEr StartedAt: 2025-11-20 16:35:45 -0500 (Thu, 20 Nov 2025) EndedAt: 2025-11-20 16:39:01 -0500 (Thu, 20 Nov 2025) EllapsedTime: 196.2 seconds RetCode: 0 Status: OK PackageFile: CAGEr_2.17.0.tar.gz PackageFileSize: 1.969 MiB