Package: CAGEr Version: 2.15.1 Command: /Library/Frameworks/R.framework/Resources/bin/R CMD build --keep-empty-dirs --no-resave-data CAGEr StartedAt: 2025-10-12 15:49:29 -0400 (Sun, 12 Oct 2025) EndedAt: 2025-10-12 15:50:46 -0400 (Sun, 12 Oct 2025) EllapsedTime: 76.9 seconds RetCode: 0 Status: OK PackageFile: CAGEr_2.15.1.tar.gz PackageFileSize: 1.776 MiB