Package: CAGEr Version: 2.15.1 Command: rm -rf CAGEr.buildbin-libdir && mkdir CAGEr.buildbin-libdir && /Users/biocbuild/BBS/utils/build-universal.sh CAGEr_2.15.1.tar.gz /Library/Frameworks/R.framework/Resources/bin/R CAGEr.buildbin-libdir StartedAt: 2025-10-12 22:30:43 -0400 (Sun, 12 Oct 2025) EndedAt: 2025-10-12 22:31:11 -0400 (Sun, 12 Oct 2025) EllapsedTime: 28.6 seconds RetCode: 0 Status: OK PackageFile: CAGEr_2.15.1.tgz PackageFileSize: 2.973 MiB