Package: CAGEfightR Version: 1.31.0 Command: /home/biocbuild/bbs-3.23-bioc/R/bin/R CMD build --keep-empty-dirs --no-resave-data CAGEfightR StartedAt: 2025-11-04 16:33:51 -0500 (Tue, 04 Nov 2025) EndedAt: 2025-11-04 16:37:08 -0500 (Tue, 04 Nov 2025) EllapsedTime: 197.2 seconds RetCode: 0 Status: OK PackageFile: CAGEfightR_1.31.0.tar.gz PackageFileSize: 1.711 MiB