Package: CAGEfightR Version: 1.29.1 Command: /Library/Frameworks/R.framework/Resources/bin/R CMD INSTALL CAGEfightR StartedAt: 2025-10-14 15:48:40 -0400 (Tue, 14 Oct 2025) EndedAt: 2025-10-14 15:49:50 -0400 (Tue, 14 Oct 2025) EllapsedTime: 70.2 seconds RetCode: 0 Status: OK