Package: CAGEfightR Version: 1.29.1 Command: /Library/Frameworks/R.framework/Resources/bin/R CMD build --keep-empty-dirs --no-resave-data CAGEfightR StartedAt: 2025-10-13 16:20:24 -0400 (Mon, 13 Oct 2025) EndedAt: 2025-10-13 16:24:34 -0400 (Mon, 13 Oct 2025) EllapsedTime: 249.1 seconds RetCode: 0 Status: OK PackageFile: CAGEfightR_1.29.1.tar.gz PackageFileSize: 1.705 MiB