Package: CAFE Version: 1.47.0 Command: /home/biocbuild/bbs-3.23-bioc/R/bin/R CMD build --keep-empty-dirs --no-resave-data CAFE StartedAt: 2025-11-02 16:40:04 -0500 (Sun, 02 Nov 2025) EndedAt: 2025-11-02 16:41:33 -0500 (Sun, 02 Nov 2025) EllapsedTime: 89.1 seconds RetCode: 0 Status: OK PackageFile: CAFE_1.47.0.tar.gz PackageFileSize: 4.629 MiB