Package: CAFE Version: 1.45.0 Command: /Library/Frameworks/R.framework/Resources/bin/R CMD INSTALL CAFE StartedAt: 2025-10-22 15:46:29 -0400 (Wed, 22 Oct 2025) EndedAt: 2025-10-22 15:47:44 -0400 (Wed, 22 Oct 2025) EllapsedTime: 75.1 seconds RetCode: 0 Status: OK