Package: CAFE Version: 1.45.0 Command: /Library/Frameworks/R.framework/Resources/bin/R CMD build --keep-empty-dirs --no-resave-data CAFE StartedAt: 2025-10-22 16:16:26 -0400 (Wed, 22 Oct 2025) EndedAt: 2025-10-22 16:18:13 -0400 (Wed, 22 Oct 2025) EllapsedTime: 106.1 seconds RetCode: 0 Status: OK PackageFile: CAFE_1.45.0.tar.gz PackageFileSize: 4.628 MiB