Package: CAFE Version: 1.45.0 Command: /Library/Frameworks/R.framework/Resources/bin/R CMD build --keep-empty-dirs --no-resave-data CAFE StartedAt: 2025-10-07 15:48:48 -0400 (Tue, 07 Oct 2025) EndedAt: 2025-10-07 15:49:25 -0400 (Tue, 07 Oct 2025) EllapsedTime: 37.4 seconds RetCode: 0 Status: OK PackageFile: CAFE_1.45.0.tar.gz PackageFileSize: 4.629 MiB