Package: CAFE Version: 1.45.0 Command: rm -rf CAFE.buildbin-libdir && mkdir CAFE.buildbin-libdir && /Users/biocbuild/BBS/utils/build-universal.sh CAFE_1.45.0.tar.gz /Library/Frameworks/R.framework/Resources/bin/R CAFE.buildbin-libdir StartedAt: 2025-10-07 22:38:47 -0400 (Tue, 07 Oct 2025) EndedAt: 2025-10-07 22:39:11 -0400 (Tue, 07 Oct 2025) EllapsedTime: 24.4 seconds RetCode: 0 Status: OK PackageFile: CAFE_1.45.0.tgz PackageFileSize: 4.688 MiB