Package: CAEN Version: 1.19.0 Command: /home/biocbuild/bbs-3.23-bioc/R/bin/R CMD INSTALL CAEN StartedAt: 2025-11-20 15:38:30 -0500 (Thu, 20 Nov 2025) EndedAt: 2025-11-20 15:38:50 -0500 (Thu, 20 Nov 2025) EllapsedTime: 19.4 seconds RetCode: 0 Status: OK