Package: CAEN Version: 1.19.0 Command: /home/biocbuild/bbs-3.23-bioc/R/bin/R CMD build --keep-empty-dirs --no-resave-data CAEN StartedAt: 2025-11-20 16:35:16 -0500 (Thu, 20 Nov 2025) EndedAt: 2025-11-20 16:37:18 -0500 (Thu, 20 Nov 2025) EllapsedTime: 122.1 seconds RetCode: 0 Status: OK PackageFile: CAEN_1.19.0.tar.gz PackageFileSize: 988.6 KiB