Package: CAEN Version: 1.17.0 Command: /Library/Frameworks/R.framework/Resources/bin/R CMD INSTALL CAEN StartedAt: 2025-10-15 15:20:40 -0400 (Wed, 15 Oct 2025) EndedAt: 2025-10-15 15:20:49 -0400 (Wed, 15 Oct 2025) EllapsedTime: 9.0 seconds RetCode: 0 Status: OK