Package: CAEN Version: 1.17.0 Command: /Library/Frameworks/R.framework/Resources/bin/R CMD build --keep-empty-dirs --no-resave-data CAEN StartedAt: 2025-10-16 16:01:40 -0400 (Thu, 16 Oct 2025) EndedAt: 2025-10-16 16:02:43 -0400 (Thu, 16 Oct 2025) EllapsedTime: 62.7 seconds RetCode: 0 Status: OK PackageFile: CAEN_1.17.0.tar.gz PackageFileSize: 988.5 KiB