Package: BumpyMatrix Version: 1.17.0 Command: /home/biocbuild/R/R/bin/R CMD check --install=check:BumpyMatrix.install-out.txt --library=/home/biocbuild/R/R/site-library --no-vignettes --timings BumpyMatrix_1.17.0.tar.gz StartedAt: 2025-10-21 06:07:08 -0000 (Tue, 21 Oct 2025) EndedAt: 2025-10-21 06:11:46 -0000 (Tue, 21 Oct 2025) EllapsedTime: 278.2 seconds RetCode: 0 Status: OK CheckDir: BumpyMatrix.Rcheck Warnings: 0