Package: BumpyMatrix Version: 1.19.0 Command: /home/biocbuild/bbs-3.23-bioc/R/bin/R CMD INSTALL BumpyMatrix StartedAt: 2025-11-20 15:13:42 -0500 (Thu, 20 Nov 2025) EndedAt: 2025-11-20 15:13:56 -0500 (Thu, 20 Nov 2025) EllapsedTime: 14.7 seconds RetCode: 0 Status: OK