Package: BulkSignalR Version: 1.1.4 Command: F:\biocbuild\bbs-3.22-bioc\R\bin\R.exe CMD INSTALL BulkSignalR StartedAt: 2025-08-14 17:02:55 -0400 (Thu, 14 Aug 2025) EndedAt: 2025-08-14 17:05:37 -0400 (Thu, 14 Aug 2025) EllapsedTime: 162.1 seconds RetCode: 0 Status: OK