############################################################################## ############################################################################## ### ### Running command: ### ### F:\biocbuild\bbs-3.22-bioc\R\bin\R.exe CMD INSTALL BulkSignalR ### ############################################################################## ############################################################################## * installing to library 'F:/biocbuild/bbs-3.22-bioc/R/library' * installing *source* package 'BulkSignalR' ... ** this is package 'BulkSignalR' version '1.1.4' ** using staged installation ** R ** data ** inst ** byte-compile and prepare package for lazy loading ** help *** installing help indices *** copying figures ** building package indices ** installing vignettes ** testing if installed package can be loaded from temporary location ℹ C:\Users\biocbuild\AppData\Local/R/cache/R/BulkSignalR is corrupted. It will be deleted and downloaded again. ℹ "GO-BP" added to cache with success. ℹ "Reactome" added to cache with success. ℹ "Network" added to cache with success. ℹ "LRdb" added to cache with success. ** testing if installed package can be loaded from final location ** testing if installed package keeps a record of temporary installation path * DONE (BulkSignalR)