Package: BulkSignalR Version: 1.1.4 Command: chmod a+r BulkSignalR -R && F:\biocbuild\bbs-3.22-bioc\R\bin\R.exe CMD build --keep-empty-dirs --no-resave-data BulkSignalR StartedAt: 2025-08-14 18:52:24 -0400 (Thu, 14 Aug 2025) EndedAt: 2025-08-14 18:58:20 -0400 (Thu, 14 Aug 2025) EllapsedTime: 356.4 seconds RetCode: 0 Status: OK PackageFile: BulkSignalR_1.1.4.tar.gz PackageFileSize: 2.689 MiB