Package: BulkSignalR Version: 1.1.4 Command: rm -rf BulkSignalR.buildbin-libdir && mkdir BulkSignalR.buildbin-libdir && F:\biocbuild\bbs-3.22-bioc\R\bin\R.exe CMD INSTALL --build --library=BulkSignalR.buildbin-libdir BulkSignalR_1.1.4.tar.gz StartedAt: 2025-08-15 09:52:46 -0400 (Fri, 15 Aug 2025) EndedAt: 2025-08-15 09:57:13 -0400 (Fri, 15 Aug 2025) EllapsedTime: 267.5 seconds RetCode: 0 Status: OK PackageFile: BulkSignalR_1.1.4.zip PackageFileSize: 3.63 MiB