Package: BulkSignalR Version: 1.3.1 Command: /home/biocbuild/bbs-3.23-bioc/R/bin/R CMD INSTALL BulkSignalR StartedAt: 2025-11-20 15:58:48 -0500 (Thu, 20 Nov 2025) EndedAt: 2025-11-20 15:59:38 -0500 (Thu, 20 Nov 2025) EllapsedTime: 50.0 seconds RetCode: 0 Status: OK