Package: BulkSignalR Version: 1.3.1 Command: /home/biocbuild/bbs-3.23-bioc/R/bin/R CMD check --install=check:BulkSignalR.install-out.txt --library=/home/biocbuild/bbs-3.23-bioc/R/site-library --timings BulkSignalR_1.3.1.tar.gz StartedAt: 2025-11-20 21:40:39 -0500 (Thu, 20 Nov 2025) EndedAt: 2025-11-20 21:51:11 -0500 (Thu, 20 Nov 2025) EllapsedTime: 631.8 seconds RetCode: 0 Status: OK CheckDir: BulkSignalR.Rcheck Warnings: 0