Package: BulkSignalR Version: 1.3.1 Command: /home/biocbuild/bbs-3.23-bioc/R/bin/R CMD build --keep-empty-dirs --no-resave-data BulkSignalR StartedAt: 2025-11-20 16:34:18 -0500 (Thu, 20 Nov 2025) EndedAt: 2025-11-20 16:38:05 -0500 (Thu, 20 Nov 2025) EllapsedTime: 227.2 seconds RetCode: 0 Status: OK PackageFile: BulkSignalR_1.3.1.tar.gz PackageFileSize: 2.98 MiB