Package: BufferedMatrixMethods Version: 1.75.0 Command: /home/biocbuild/bbs-3.23-bioc/R/bin/R CMD check --install=check:BufferedMatrixMethods.install-out.txt --library=/home/biocbuild/bbs-3.23-bioc/R/site-library --timings BufferedMatrixMethods_1.75.0.tar.gz StartedAt: 2025-11-02 21:30:12 -0500 (Sun, 02 Nov 2025) EndedAt: 2025-11-02 21:30:27 -0500 (Sun, 02 Nov 2025) EllapsedTime: 15.0 seconds RetCode: 0 Status: OK CheckDir: BufferedMatrixMethods.Rcheck Warnings: 0