Package: BufferedMatrix Version: 1.73.0 Command: chmod a+r BufferedMatrix -R && F:\biocbuild\bbs-3.22-bioc\R\bin\R.exe CMD build --keep-empty-dirs --no-resave-data BufferedMatrix StartedAt: 2025-08-14 18:52:16 -0400 (Thu, 14 Aug 2025) EndedAt: 2025-08-14 18:53:31 -0400 (Thu, 14 Aug 2025) EllapsedTime: 74.6 seconds RetCode: 0 Status: OK PackageFile: BufferedMatrix_1.73.0.tar.gz PackageFileSize: 490.1 KiB