Package: BufferedMatrix Version: 1.75.0 Command: /home/biocbuild/bbs-3.23-bioc/R/bin/R CMD INSTALL BufferedMatrix StartedAt: 2025-11-04 15:01:19 -0500 (Tue, 04 Nov 2025) EndedAt: 2025-11-04 15:01:25 -0500 (Tue, 04 Nov 2025) EllapsedTime: 5.3 seconds RetCode: 0 Status: OK