Package: BufferedMatrix Version: 1.75.0 Command: /home/biocbuild/bbs-3.23-bioc/R/bin/R CMD check --install=check:BufferedMatrix.install-out.txt --library=/home/biocbuild/bbs-3.23-bioc/R/site-library --timings BufferedMatrix_1.75.0.tar.gz StartedAt: 2025-11-05 21:37:48 -0500 (Wed, 05 Nov 2025) EndedAt: 2025-11-05 21:38:18 -0500 (Wed, 05 Nov 2025) EllapsedTime: 30.1 seconds RetCode: 0 Status: OK CheckDir: BufferedMatrix.Rcheck Warnings: 0