Package: BrowserViz Version: 2.33.0 Command: /home/biocbuild/bbs-3.23-bioc/R/bin/R CMD INSTALL BrowserViz StartedAt: 2025-11-02 15:18:16 -0500 (Sun, 02 Nov 2025) EndedAt: 2025-11-02 15:18:20 -0500 (Sun, 02 Nov 2025) EllapsedTime: 4.1 seconds RetCode: 0 Status: OK