Package: BrowserViz Version: 2.33.0 Command: /home/biocbuild/bbs-3.23-bioc/R/bin/R CMD build --keep-empty-dirs --no-resave-data BrowserViz StartedAt: 2025-11-02 16:38:25 -0500 (Sun, 02 Nov 2025) EndedAt: 2025-11-02 16:38:31 -0500 (Sun, 02 Nov 2025) EllapsedTime: 6.0 seconds RetCode: 0 Status: OK PackageFile: BrowserViz_2.33.0.tar.gz PackageFileSize: 240.9 KiB