Package: BrowserViz Version: 2.31.0 Command: /Library/Frameworks/R.framework/Resources/bin/R CMD INSTALL BrowserViz StartedAt: 2025-09-30 15:13:47 -0400 (Tue, 30 Sep 2025) EndedAt: 2025-09-30 15:13:57 -0400 (Tue, 30 Sep 2025) EllapsedTime: 9.5 seconds RetCode: 0 Status: OK