Package: BrowserViz Version: 2.31.0 Command: rm -rf BrowserViz.buildbin-libdir && mkdir BrowserViz.buildbin-libdir && /Users/biocbuild/BBS/utils/build-universal.sh BrowserViz_2.31.0.tar.gz /Library/Frameworks/R.framework/Resources/bin/R BrowserViz.buildbin-libdir StartedAt: 2025-10-01 01:32:53 -0400 (Wed, 01 Oct 2025) EndedAt: 2025-10-01 01:33:01 -0400 (Wed, 01 Oct 2025) EllapsedTime: 8.1 seconds RetCode: 0 Status: OK PackageFile: BrowserViz_2.31.0.tgz PackageFileSize: 416.1 KiB