Package: BridgeDbR Version: 2.19.3 Command: /home/biocbuild/R/R/bin/R CMD INSTALL BridgeDbR StartedAt: 2025-10-06 20:10:09 -0000 (Mon, 06 Oct 2025) EndedAt: 2025-10-06 20:10:48 -0000 (Mon, 06 Oct 2025) EllapsedTime: 39.1 seconds RetCode: 0 Status: OK