Package: BridgeDbR Version: 2.19.3 Command: /home/biocbuild/R/R/bin/R CMD build --keep-empty-dirs --no-resave-data BridgeDbR StartedAt: 2025-10-06 22:18:19 -0000 (Mon, 06 Oct 2025) EndedAt: 2025-10-06 22:18:29 -0000 (Mon, 06 Oct 2025) EllapsedTime: 10.0 seconds RetCode: 0 Status: OK PackageFile: BridgeDbR_2.19.3.tar.gz PackageFileSize: 5.158 MiB