Package: BridgeDbR Version: 2.19.3 Command: /home/biocbuild/bbs-3.22-bioc/R/bin/R CMD check --install=check:BridgeDbR.install-out.txt --library=/home/biocbuild/bbs-3.22-bioc/R/site-library --timings BridgeDbR_2.19.3.tar.gz StartedAt: 2025-10-10 21:56:19 -0400 (Fri, 10 Oct 2025) EndedAt: 2025-10-10 21:57:09 -0400 (Fri, 10 Oct 2025) EllapsedTime: 50.1 seconds RetCode: 0 Status: OK CheckDir: BridgeDbR.Rcheck Warnings: 0