Package: BridgeDbR Version: 2.21.0 Command: /home/biocbuild/bbs-3.23-bioc/R/bin/R CMD INSTALL BridgeDbR StartedAt: 2025-11-20 15:02:47 -0500 (Thu, 20 Nov 2025) EndedAt: 2025-11-20 15:03:05 -0500 (Thu, 20 Nov 2025) EllapsedTime: 17.9 seconds RetCode: 0 Status: OK