Package: BridgeDbR Version: 2.21.0 Command: /home/biocbuild/bbs-3.23-bioc/R/bin/R CMD check --install=check:BridgeDbR.install-out.txt --library=/home/biocbuild/bbs-3.23-bioc/R/site-library --timings BridgeDbR_2.21.0.tar.gz StartedAt: 2025-11-21 21:39:03 -0500 (Fri, 21 Nov 2025) EndedAt: 2025-11-21 21:39:36 -0500 (Fri, 21 Nov 2025) EllapsedTime: 33.0 seconds RetCode: 0 Status: OK CheckDir: BridgeDbR.Rcheck Warnings: 0