Package: BloodGen3Module Version: 1.19.0 Command: /home/biocbuild/bbs-3.23-bioc/R/bin/R CMD INSTALL BloodGen3Module StartedAt: 2025-11-20 15:25:59 -0500 (Thu, 20 Nov 2025) EndedAt: 2025-11-20 15:26:32 -0500 (Thu, 20 Nov 2025) EllapsedTime: 32.8 seconds RetCode: 0 Status: OK