Package: BloodGen3Module Version: 1.19.0 Command: /home/biocbuild/bbs-3.23-bioc/R/bin/R CMD check --install=check:BloodGen3Module.install-out.txt --library=/home/biocbuild/bbs-3.23-bioc/R/site-library --timings BloodGen3Module_1.19.0.tar.gz StartedAt: 2025-11-20 21:35:07 -0500 (Thu, 20 Nov 2025) EndedAt: 2025-11-20 21:40:35 -0500 (Thu, 20 Nov 2025) EllapsedTime: 328.3 seconds RetCode: 0 Status: WARNINGS CheckDir: BloodGen3Module.Rcheck Warnings: 1